BEGIN:VCALENDAR
VERSION:2.0
PRODID:-//Waterfront Neighbourhood Centre - ECPv6.15.20//NONSGML v1.0//EN
CALSCALE:GREGORIAN
METHOD:PUBLISH
X-WR-CALNAME:Waterfront Neighbourhood Centre
X-ORIGINAL-URL:https://waterfrontnc.ca
X-WR-CALDESC:Events for Waterfront Neighbourhood Centre
REFRESH-INTERVAL;VALUE=DURATION:PT1H
X-Robots-Tag:noindex
X-PUBLISHED-TTL:PT1H
BEGIN:VTIMEZONE
TZID:America/Toronto
BEGIN:DAYLIGHT
TZOFFSETFROM:-0500
TZOFFSETTO:-0400
TZNAME:EDT
DTSTART:20210314T070000
END:DAYLIGHT
BEGIN:STANDARD
TZOFFSETFROM:-0400
TZOFFSETTO:-0500
TZNAME:EST
DTSTART:20211107T060000
END:STANDARD
BEGIN:DAYLIGHT
TZOFFSETFROM:-0500
TZOFFSETTO:-0400
TZNAME:EDT
DTSTART:20220313T070000
END:DAYLIGHT
BEGIN:STANDARD
TZOFFSETFROM:-0400
TZOFFSETTO:-0500
TZNAME:EST
DTSTART:20221106T060000
END:STANDARD
BEGIN:DAYLIGHT
TZOFFSETFROM:-0500
TZOFFSETTO:-0400
TZNAME:EDT
DTSTART:20230312T070000
END:DAYLIGHT
BEGIN:STANDARD
TZOFFSETFROM:-0400
TZOFFSETTO:-0500
TZNAME:EST
DTSTART:20231105T060000
END:STANDARD
BEGIN:DAYLIGHT
TZOFFSETFROM:-0500
TZOFFSETTO:-0400
TZNAME:EDT
DTSTART:20240310T070000
END:DAYLIGHT
BEGIN:STANDARD
TZOFFSETFROM:-0400
TZOFFSETTO:-0500
TZNAME:EST
DTSTART:20241103T060000
END:STANDARD
END:VTIMEZONE
BEGIN:VEVENT
DTSTART;TZID=America/Toronto:20230313T080000
DTEND;TZID=America/Toronto:20230313T170000
DTSTAMP:20260425T063501
CREATED:20230201T220034Z
LAST-MODIFIED:20230201T220042Z
UID:10000137-1678694400-1678726800@waterfrontnc.ca
SUMMARY:Summer Daze Camp Registration Begins
DESCRIPTION:Summer is a time to relax\, a time to have fun\, and most importantly it is a time to learn and grow! WNC Summer Daze Camp provides an enriching camp experience that offers a variety of fun activities and day trips. \n\n\n\n2023 REGISTRATION BEGINS: \n\n\n\nMonday\, March 13th – Early Bird registration for current After School Daze Program Parents \n\n\n\nMonday\, March 20th – Community Member \n\n\n\nMonday\, April 17th – Associate Members (Associates are members living outside of WNC’s catchment area).
URL:https://waterfrontnc.ca/event/summer-daze-camp-registration-begins/
ATTACH;FMTTYPE=image/jpeg:https://waterfrontnc.ca/wp-content/uploads/2023/02/Summer-Daze-Camp-Flyer-v2.jpg
END:VEVENT
BEGIN:VEVENT
DTSTART;TZID=America/Toronto:20230313T000000
DTEND;TZID=America/Toronto:20230319T235959
DTSTAMP:20260425T063501
CREATED:20221110T181759Z
LAST-MODIFIED:20221110T181759Z
UID:10000129-1678665600-1679270399@waterfrontnc.ca
SUMMARY:Spring Session 2023 Registration
DESCRIPTION:Please see our Program Guide for details.
URL:https://waterfrontnc.ca/event/spring-session-2023-registration/
END:VEVENT
BEGIN:VEVENT
DTSTART;TZID=America/Toronto:20230307T170000
DTEND;TZID=America/Toronto:20230307T190000
DTSTAMP:20260425T063501
CREATED:20230107T040724Z
LAST-MODIFIED:20230107T040916Z
UID:10000135-1678208400-1678215600@waterfrontnc.ca
SUMMARY:International Women's Day Event @ WNC
DESCRIPTION:In-person and Online \n\n\n\nTo register contact Elizabeth Escobar416.392.1509 x327  |  elizabeth@waterfrontnc.ca
URL:https://waterfrontnc.ca/event/international-womens-day/
ORGANIZER;CN="Waterfront Neighbourhood Centre":MAILTO:info@waterfrontnc.ca
END:VEVENT
BEGIN:VEVENT
DTSTART;TZID=America/Toronto:20230220T000000
DTEND;TZID=America/Toronto:20230220T235959
DTSTAMP:20260425T063501
CREATED:20221110T181457Z
LAST-MODIFIED:20221110T181947Z
UID:10000128-1676851200-1676937599@waterfrontnc.ca
SUMMARY:Family Day Closure
DESCRIPTION:WNC will be closed today.
URL:https://waterfrontnc.ca/event/family-day-closure/
END:VEVENT
BEGIN:VEVENT
DTSTART;TZID=America/Toronto:20230206T080000
DTEND;TZID=America/Toronto:20230206T170000
DTSTAMP:20260425T063501
CREATED:20230201T180327Z
LAST-MODIFIED:20230201T180328Z
UID:10000136-1675670400-1675702800@waterfrontnc.ca
SUMMARY:March Break Camp 2023 Registration Opens
DESCRIPTION:Registration opens for March Break Camp 2023 \n\n\n\nWNC offers an action-filled March Break Camp with a variety of engaging activities including science\, learning skills from guest instructors\, fun and games in the gym\, exciting out trips and more! \n\n\n\nCamp Hours: 9:30AM-4:30PMExtended Care: 8:30AM- 5:30PM ($35/week) \n\n\n\nMar 13 to Mar 17\, 2023Monday – 9:30 AM – 4:30 PMTuesday – 9:30 AM – 4:30 PMWednesday – 9:30 AM – 4:30 PMThursday – 9:30 AM – 4:30 PMFriday – 9:30 AM – 4:30 PM \n\n\n\nCamp schedule and trip location are subject to change. \n\n\n\nPlease note: Additional trip costs will be kept at a minimum when applicable. \n\n\n\nMinimum of 8 participants required.      \n\n\n\nAges: 5 to 12
URL:https://waterfrontnc.ca/event/march-break-camp-2023-registration-opens/
END:VEVENT
BEGIN:VEVENT
DTSTART;TZID=America/Toronto:20230109T000000
DTEND;TZID=America/Toronto:20230115T235959
DTSTAMP:20260425T063501
CREATED:20221110T181303Z
LAST-MODIFIED:20221110T181304Z
UID:10000125-1673222400-1673827199@waterfrontnc.ca
SUMMARY:Winter Session 2023 Registration
DESCRIPTION:Please see our Program Guide for details.
URL:https://waterfrontnc.ca/event/winter-session-2023-registration/
END:VEVENT
BEGIN:VEVENT
DTSTART;TZID=America/Toronto:20221224T000000
DTEND;TZID=America/Toronto:20230108T235959
DTSTAMP:20260425T063501
CREATED:20221110T181424Z
LAST-MODIFIED:20221110T181945Z
UID:10000127-1671840000-1673222399@waterfrontnc.ca
SUMMARY:Holidays Closure
DESCRIPTION:WNC will be closed today.
URL:https://waterfrontnc.ca/event/holidays-closure/
END:VEVENT
BEGIN:VEVENT
DTSTART;TZID=America/Toronto:20221217T000000
DTEND;TZID=America/Toronto:20221218T235959
DTSTAMP:20260425T063501
CREATED:20221110T181353Z
LAST-MODIFIED:20221110T181940Z
UID:10000126-1671235200-1671407999@waterfrontnc.ca
SUMMARY:WNC Closed
DESCRIPTION:WNC will be closed today.
URL:https://waterfrontnc.ca/event/wnc-closed-3/
END:VEVENT
BEGIN:VEVENT
DTSTART;TZID=America/Toronto:20221214T170000
DTEND;TZID=America/Toronto:20221214T190000
DTSTAMP:20260425T063501
CREATED:20221125T211509Z
LAST-MODIFIED:20221125T211643Z
UID:10000134-1671037200-1671044400@waterfrontnc.ca
SUMMARY:Winter Concert
DESCRIPTION:Dancing | Singing | Music & Much MoreBake | Sale | Juice Bar | Coat Drive | Food DriveAll proceeds will go to our youth holiday gift drive.
URL:https://waterfrontnc.ca/event/winter-concert/
CATEGORIES:Community
ORGANIZER;CN="Waterfront Neighbourhood Centre":MAILTO:info@waterfrontnc.ca
END:VEVENT
BEGIN:VEVENT
DTSTART;TZID=America/Toronto:20221111T000000
DTEND;TZID=America/Toronto:20221111T235959
DTSTAMP:20260425T063501
CREATED:20221110T170316Z
LAST-MODIFIED:20221110T182015Z
UID:10000124-1668124800-1668211199@waterfrontnc.ca
SUMMARY:Rememberance Day Closure
DESCRIPTION:WNC will be closed today.
URL:https://waterfrontnc.ca/event/rememberance-day-closure/
END:VEVENT
BEGIN:VEVENT
DTSTART;TZID=America/Toronto:20221025T170000
DTEND;TZID=America/Toronto:20221025T190000
DTSTAMP:20260425T063501
CREATED:20220927T194415Z
LAST-MODIFIED:20220927T194828Z
UID:10000122-1666717200-1666724400@waterfrontnc.ca
SUMMARY:Annual General Meeting
DESCRIPTION:The Annual General Meeting of Members of Waterfront Neighbourhood Centre \n\n\n\nAgenda:   \n\n\n\n5:00 – 5:30 pm: Registration  \n\n\n\n5:30 pm:    Business Meeting: \n\n\n\nCall to OrderLand AcknowledgementApproval of the AgendaApproval of the Minutes of the Tuesday\, October 26\, 2021\, Annual General MeetingReceipt of 2021 Financial Statement and Auditor’s ReportPresentation of the Annual Report and Committee ReportsAdjournment\n\n\n\n \n\n\n\nAfter the Business Meeting:  WNC Members Reception \n\n\n\n6:15 pm:           Senior Around The World Event; Music and Light Refreshments \n\n\n\nIf you are interested in attending\, please RSVP by email info@waterfrontnc.ca  or call 416-392-1509. \n\n\n\nCommunity Members of Waterfront Neighbourhood Centre\, ages 18 years and over who are current members at least 30 days prior of the Annual General Meeting shall have the right to vote on any and all matters brought before the Members at the Annual General Meeting. The Audited Financial Statement and Annual Report will be available at the meeting.
URL:https://waterfrontnc.ca/event/annual-general-meeting/
LOCATION:Waterfront Neighbourhood Centre\, 627 Queens Quay W\, Toronto\, Ontario\, M5V3G3
ATTACH;FMTTYPE=image/jpeg:https://waterfrontnc.ca/wp-content/uploads/2020/06/WNC-FeatureImage.jpg
END:VEVENT
BEGIN:VEVENT
DTSTART;TZID=America/Toronto:20221010T000000
DTEND;TZID=America/Toronto:20221010T235959
DTSTAMP:20260425T063501
CREATED:20220927T200448Z
LAST-MODIFIED:20220927T200449Z
UID:10000123-1665360000-1665446399@waterfrontnc.ca
SUMMARY:Closed for Thanksgiving
DESCRIPTION:WNC will be closed on Monday\, October 10th\, 2022 for Thanksgiving Day.
URL:https://waterfrontnc.ca/event/closed-for-thanksgiving/
ATTACH;FMTTYPE=image/jpeg:https://waterfrontnc.ca/wp-content/uploads/2020/06/WNC-FeatureImage.jpg
END:VEVENT
BEGIN:VEVENT
DTSTART;TZID=America/Toronto:20220906T080000
DTEND;TZID=America/Toronto:20220911T170000
DTSTAMP:20260425T063501
CREATED:20220908T171953Z
LAST-MODIFIED:20220908T172016Z
UID:10000121-1662451200-1662915600@waterfrontnc.ca
SUMMARY:Registration Week
DESCRIPTION:Tuesday\, September 6\, 2022Membership & Subsidy Approval/Renewal Day8:00 am – 7:00 pm \n\n\n\nWednesday\, September 7\, 2022Family and Children Programs Registration Day8:00 am – 7:00 pm \n\n\n\nThursday\, September 8\, 2022PEEP & PEEP for Tots Registration Session 1 & Session 28:00 am – 11:00 am \n\n\n\nFriday\, September 9\, 2022Senior Programs and Adult Fitness8:00 am – 11:00 am \n\n\n\nSaturday\, September 10 & Sunday\, September 11General Registration for All Programs11:00 am – 5:00 pm
URL:https://waterfrontnc.ca/event/registration-week/
CATEGORIES:Programs & Services
ATTACH;FMTTYPE=image/jpeg:https://waterfrontnc.ca/wp-content/uploads/2020/06/WNC-FeatureImage.jpg
END:VEVENT
BEGIN:VEVENT
DTSTART;TZID=America/Toronto:20220829T000000
DTEND;TZID=America/Toronto:20220905T235959
DTSTAMP:20260425T063501
CREATED:20220618T233244Z
LAST-MODIFIED:20220822T135219Z
UID:10000104-1661731200-1662422399@waterfrontnc.ca
SUMMARY:Closed for Maintenance
DESCRIPTION:View Event
URL:https://waterfrontnc.ca/event/closed-for-maintenance/
CATEGORIES:Centre Operation
END:VEVENT
BEGIN:VEVENT
DTSTART;TZID=America/Toronto:20220828T000000
DTEND;TZID=America/Toronto:20220828T235959
DTSTAMP:20260425T063501
CREATED:20220618T233112Z
LAST-MODIFIED:20220618T233113Z
UID:10000103-1661644800-1661731199@waterfrontnc.ca
SUMMARY:Last Day of Summer Porgram
DESCRIPTION:
URL:https://waterfrontnc.ca/event/last-day-of-summer-porgram/
CATEGORIES:Programs & Services
END:VEVENT
BEGIN:VEVENT
DTSTART;TZID=America/Toronto:20220827T120000
DTEND;TZID=America/Toronto:20220827T160000
DTSTAMP:20260425T063501
CREATED:20220716T024412Z
LAST-MODIFIED:20220716T024505Z
UID:10000117-1661601600-1661616000@waterfrontnc.ca
SUMMARY:Covid-19 Wellness Clinics
DESCRIPTION:Moderna & Pfizer doses available 1st\, 2nd\, 3rd\, & 4th for ages 5+Mondays 4 to 8PM&Saturdays 12 to 4PM \n\n\n\nFor more information please contact communityambassadors@waterfrontnc.ca or call 416.392.1509
URL:https://waterfrontnc.ca/event/covid-19-wellness-clinics-2/2022-08-27/
END:VEVENT
BEGIN:VEVENT
DTSTART;TZID=America/Toronto:20220825T140000
DTEND;TZID=America/Toronto:20220825T160000
DTSTAMP:20260425T063501
CREATED:20220818T032918Z
LAST-MODIFIED:20220818T032919Z
UID:10000119-1661436000-1661443200@waterfrontnc.ca
SUMMARY:Around the World Festival
DESCRIPTION:Join us on August 25\,2022 from 2:00 pm – 4:00 pm. \n\n\n\nCome and learn about other countries from our Seniors. \n\n\n\nIf you want to have a display table contact Jun 416 392 1509 X 326 or email jun@waterfrontnc.ca \n\n\n\nHope to see you there.
URL:https://waterfrontnc.ca/event/around-the-world-festival/
END:VEVENT
BEGIN:VEVENT
DTSTART;TZID=America/Toronto:20220822T160000
DTEND;TZID=America/Toronto:20220822T200000
DTSTAMP:20260425T063501
CREATED:20220716T024134Z
LAST-MODIFIED:20220716T024135Z
UID:10000110-1661184000-1661198400@waterfrontnc.ca
SUMMARY:Covid-19 Wellness Clinics
DESCRIPTION:Moderna & Pfizer doses available 1st\, 2nd\, 3rd\, & 4th for ages 5+Mondays 4 to 8PM&Saturdays 12 to 4PM \n\n\n\nFor more information please contact communityambassadors@waterfrontnc.ca or call 416.392.1509
URL:https://waterfrontnc.ca/event/covid-19-wellness-clinics/2022-08-22/
END:VEVENT
BEGIN:VEVENT
DTSTART;TZID=America/Toronto:20220820T140000
DTEND;TZID=America/Toronto:20220820T170000
DTSTAMP:20260425T063501
CREATED:20220819T192134Z
LAST-MODIFIED:20220819T192318Z
UID:10000120-1661004000-1661014800@waterfrontnc.ca
SUMMARY:FC21CA's All Canadian Final
DESCRIPTION:Come See How True That Is During The World’s Most Unique Basketball Tournament\, Full Court 21 Canada\, x Our First All Canadian Final\, Sponsored By eBay Canada!
URL:https://waterfrontnc.ca/event/fc21cas-all-canadian-final/
CATEGORIES:Community
END:VEVENT
BEGIN:VEVENT
DTSTART;TZID=America/Toronto:20220820T120000
DTEND;TZID=America/Toronto:20220820T160000
DTSTAMP:20260425T063501
CREATED:20220716T024412Z
LAST-MODIFIED:20220716T024505Z
UID:10000116-1660996800-1661011200@waterfrontnc.ca
SUMMARY:Covid-19 Wellness Clinics
DESCRIPTION:Moderna & Pfizer doses available 1st\, 2nd\, 3rd\, & 4th for ages 5+Mondays 4 to 8PM&Saturdays 12 to 4PM \n\n\n\nFor more information please contact communityambassadors@waterfrontnc.ca or call 416.392.1509
URL:https://waterfrontnc.ca/event/covid-19-wellness-clinics-2/2022-08-20/
END:VEVENT
BEGIN:VEVENT
DTSTART;TZID=America/Toronto:20220818T173000
DTEND;TZID=America/Toronto:20220818T183000
DTSTAMP:20260425T063501
CREATED:20220818T032656Z
LAST-MODIFIED:20220818T032657Z
UID:10000118-1660843800-1660847400@waterfrontnc.ca
SUMMARY:Be A Bud Fundraiser - Car Wash
DESCRIPTION:Be-a-Bud Car wash will be held tomorrow August 18 from 5:30- 6:30 pm outside our garage on (Eireann Quay/Bathurst South of Queens Quay)  \n\n\n\nYour $10 donation will be used to help send a kid to camp this summer. 
URL:https://waterfrontnc.ca/event/be-a-bud-fundraiser-car-wash/
ATTACH;FMTTYPE=image/jpeg:https://waterfrontnc.ca/wp-content/uploads/2022/08/299991163_10160159039463270_7760671248527944915_n.jpg
END:VEVENT
BEGIN:VEVENT
DTSTART;TZID=America/Toronto:20220815T160000
DTEND;TZID=America/Toronto:20220815T200000
DTSTAMP:20260425T063501
CREATED:20220716T024134Z
LAST-MODIFIED:20220716T024135Z
UID:10000109-1660579200-1660593600@waterfrontnc.ca
SUMMARY:Covid-19 Wellness Clinics
DESCRIPTION:Moderna & Pfizer doses available 1st\, 2nd\, 3rd\, & 4th for ages 5+Mondays 4 to 8PM&Saturdays 12 to 4PM \n\n\n\nFor more information please contact communityambassadors@waterfrontnc.ca or call 416.392.1509
URL:https://waterfrontnc.ca/event/covid-19-wellness-clinics/2022-08-15/
END:VEVENT
BEGIN:VEVENT
DTSTART;TZID=America/Toronto:20220813T120000
DTEND;TZID=America/Toronto:20220813T160000
DTSTAMP:20260425T063501
CREATED:20220716T024412Z
LAST-MODIFIED:20220716T024505Z
UID:10000115-1660392000-1660406400@waterfrontnc.ca
SUMMARY:Covid-19 Wellness Clinics
DESCRIPTION:Moderna & Pfizer doses available 1st\, 2nd\, 3rd\, & 4th for ages 5+Mondays 4 to 8PM&Saturdays 12 to 4PM \n\n\n\nFor more information please contact communityambassadors@waterfrontnc.ca or call 416.392.1509
URL:https://waterfrontnc.ca/event/covid-19-wellness-clinics-2/2022-08-13/
END:VEVENT
BEGIN:VEVENT
DTSTART;TZID=America/Toronto:20220808T160000
DTEND;TZID=America/Toronto:20220808T200000
DTSTAMP:20260425T063501
CREATED:20220716T024134Z
LAST-MODIFIED:20220716T024135Z
UID:10000108-1659974400-1659988800@waterfrontnc.ca
SUMMARY:Covid-19 Wellness Clinics
DESCRIPTION:Moderna & Pfizer doses available 1st\, 2nd\, 3rd\, & 4th for ages 5+Mondays 4 to 8PM&Saturdays 12 to 4PM \n\n\n\nFor more information please contact communityambassadors@waterfrontnc.ca or call 416.392.1509
URL:https://waterfrontnc.ca/event/covid-19-wellness-clinics/2022-08-08/
END:VEVENT
BEGIN:VEVENT
DTSTART;TZID=America/Toronto:20220806T120000
DTEND;TZID=America/Toronto:20220806T160000
DTSTAMP:20260425T063501
CREATED:20220716T024412Z
LAST-MODIFIED:20220716T024505Z
UID:10000114-1659787200-1659801600@waterfrontnc.ca
SUMMARY:Covid-19 Wellness Clinics
DESCRIPTION:Moderna & Pfizer doses available 1st\, 2nd\, 3rd\, & 4th for ages 5+Mondays 4 to 8PM&Saturdays 12 to 4PM \n\n\n\nFor more information please contact communityambassadors@waterfrontnc.ca or call 416.392.1509
URL:https://waterfrontnc.ca/event/covid-19-wellness-clinics-2/2022-08-06/
END:VEVENT
BEGIN:VEVENT
DTSTART;TZID=America/Toronto:20220801T000000
DTEND;TZID=America/Toronto:20220801T235959
DTSTAMP:20260425T063501
CREATED:20220618T233905Z
LAST-MODIFIED:20220618T233906Z
UID:10000105-1659312000-1659398399@waterfrontnc.ca
SUMMARY:Closed for Civic Day
DESCRIPTION:
URL:https://waterfrontnc.ca/event/closed-for-civic-day/
CATEGORIES:Centre Operation
END:VEVENT
BEGIN:VEVENT
DTSTART;TZID=America/Toronto:20220730T120000
DTEND;TZID=America/Toronto:20220730T160000
DTSTAMP:20260425T063501
CREATED:20220716T024412Z
LAST-MODIFIED:20220716T024505Z
UID:10000113-1659182400-1659196800@waterfrontnc.ca
SUMMARY:Covid-19 Wellness Clinics
DESCRIPTION:Moderna & Pfizer doses available 1st\, 2nd\, 3rd\, & 4th for ages 5+Mondays 4 to 8PM&Saturdays 12 to 4PM \n\n\n\nFor more information please contact communityambassadors@waterfrontnc.ca or call 416.392.1509
URL:https://waterfrontnc.ca/event/covid-19-wellness-clinics-2/2022-07-30/
END:VEVENT
BEGIN:VEVENT
DTSTART;TZID=America/Toronto:20220725T160000
DTEND;TZID=America/Toronto:20220725T200000
DTSTAMP:20260425T063501
CREATED:20220716T024134Z
LAST-MODIFIED:20220716T024135Z
UID:10000107-1658764800-1658779200@waterfrontnc.ca
SUMMARY:Covid-19 Wellness Clinics
DESCRIPTION:Moderna & Pfizer doses available 1st\, 2nd\, 3rd\, & 4th for ages 5+Mondays 4 to 8PM&Saturdays 12 to 4PM \n\n\n\nFor more information please contact communityambassadors@waterfrontnc.ca or call 416.392.1509
URL:https://waterfrontnc.ca/event/covid-19-wellness-clinics/2022-07-25/
END:VEVENT
BEGIN:VEVENT
DTSTART;TZID=America/Toronto:20220723T120000
DTEND;TZID=America/Toronto:20220723T160000
DTSTAMP:20260425T063501
CREATED:20220716T024412Z
LAST-MODIFIED:20220716T024505Z
UID:10000112-1658577600-1658592000@waterfrontnc.ca
SUMMARY:Covid-19 Wellness Clinics
DESCRIPTION:Moderna & Pfizer doses available 1st\, 2nd\, 3rd\, & 4th for ages 5+Mondays 4 to 8PM&Saturdays 12 to 4PM \n\n\n\nFor more information please contact communityambassadors@waterfrontnc.ca or call 416.392.1509
URL:https://waterfrontnc.ca/event/covid-19-wellness-clinics-2/2022-07-23/
END:VEVENT
BEGIN:VEVENT
DTSTART;TZID=America/Toronto:20220718T160000
DTEND;TZID=America/Toronto:20220718T200000
DTSTAMP:20260425T063501
CREATED:20220716T024134Z
LAST-MODIFIED:20220716T024135Z
UID:10000106-1658160000-1658174400@waterfrontnc.ca
SUMMARY:Covid-19 Wellness Clinics
DESCRIPTION:Moderna & Pfizer doses available 1st\, 2nd\, 3rd\, & 4th for ages 5+Mondays 4 to 8PM&Saturdays 12 to 4PM \n\n\n\nFor more information please contact communityambassadors@waterfrontnc.ca or call 416.392.1509
URL:https://waterfrontnc.ca/event/covid-19-wellness-clinics/2022-07-18/
END:VEVENT
END:VCALENDAR