BEGIN:VCALENDAR
VERSION:2.0
PRODID:-//Waterfront Neighbourhood Centre - ECPv6.15.20//NONSGML v1.0//EN
CALSCALE:GREGORIAN
METHOD:PUBLISH
X-ORIGINAL-URL:https://waterfrontnc.ca
X-WR-CALDESC:Events for Waterfront Neighbourhood Centre
REFRESH-INTERVAL;VALUE=DURATION:PT1H
X-Robots-Tag:noindex
X-PUBLISHED-TTL:PT1H
BEGIN:VTIMEZONE
TZID:America/Toronto
BEGIN:DAYLIGHT
TZOFFSETFROM:-0500
TZOFFSETTO:-0400
TZNAME:EDT
DTSTART:20250309T070000
END:DAYLIGHT
BEGIN:STANDARD
TZOFFSETFROM:-0400
TZOFFSETTO:-0500
TZNAME:EST
DTSTART:20251102T060000
END:STANDARD
BEGIN:DAYLIGHT
TZOFFSETFROM:-0500
TZOFFSETTO:-0400
TZNAME:EDT
DTSTART:20260308T070000
END:DAYLIGHT
BEGIN:STANDARD
TZOFFSETFROM:-0400
TZOFFSETTO:-0500
TZNAME:EST
DTSTART:20261101T060000
END:STANDARD
BEGIN:DAYLIGHT
TZOFFSETFROM:-0500
TZOFFSETTO:-0400
TZNAME:EDT
DTSTART:20270314T070000
END:DAYLIGHT
BEGIN:STANDARD
TZOFFSETFROM:-0400
TZOFFSETTO:-0500
TZNAME:EST
DTSTART:20271107T060000
END:STANDARD
END:VTIMEZONE
BEGIN:VEVENT
DTSTART;TZID=America/Toronto:20260107T080000
DTEND;TZID=America/Toronto:20260107T190000
DTSTAMP:20260423T090725
CREATED:20260105T015455Z
LAST-MODIFIED:20260105T015517Z
UID:10000792-1767772800-1767812400@waterfrontnc.ca
SUMMARY:Winter Programs Registration
DESCRIPTION:
URL:https://waterfrontnc.ca/event/winter-programs-registration-3/2026-01-07/
END:VEVENT
BEGIN:VEVENT
DTSTART;TZID=America/Toronto:20260108T080000
DTEND;TZID=America/Toronto:20260108T190000
DTSTAMP:20260423T090725
CREATED:20260105T015455Z
LAST-MODIFIED:20260105T015517Z
UID:10000793-1767859200-1767898800@waterfrontnc.ca
SUMMARY:Winter Programs Registration
DESCRIPTION:
URL:https://waterfrontnc.ca/event/winter-programs-registration-3/2026-01-08/
END:VEVENT
BEGIN:VEVENT
DTSTART;TZID=America/Toronto:20260109T080000
DTEND;TZID=America/Toronto:20260109T190000
DTSTAMP:20260423T090725
CREATED:20260105T015455Z
LAST-MODIFIED:20260105T015517Z
UID:10000794-1767945600-1767985200@waterfrontnc.ca
SUMMARY:Winter Programs Registration
DESCRIPTION:
URL:https://waterfrontnc.ca/event/winter-programs-registration-3/2026-01-09/
END:VEVENT
BEGIN:VEVENT
DTSTART;TZID=America/Toronto:20260110T110000
DTEND;TZID=America/Toronto:20260110T170000
DTSTAMP:20260423T090725
CREATED:20260105T015455Z
LAST-MODIFIED:20260105T015517Z
UID:10000795-1768042800-1768064400@waterfrontnc.ca
SUMMARY:Winter Programs Registration
DESCRIPTION:
URL:https://waterfrontnc.ca/event/winter-programs-registration-3/2026-01-10/
END:VEVENT
BEGIN:VEVENT
DTSTART;TZID=America/Toronto:20260111T110000
DTEND;TZID=America/Toronto:20260111T170000
DTSTAMP:20260423T090725
CREATED:20260105T015455Z
LAST-MODIFIED:20260105T015517Z
UID:10000796-1768129200-1768150800@waterfrontnc.ca
SUMMARY:Winter Programs Registration
DESCRIPTION:
URL:https://waterfrontnc.ca/event/winter-programs-registration-3/2026-01-11/
END:VEVENT
BEGIN:VEVENT
DTSTART;TZID=America/Toronto:20260115T000000
DTEND;TZID=America/Toronto:20260115T235959
DTSTAMP:20260423T090725
CREATED:20260115T124140Z
LAST-MODIFIED:20260115T124143Z
UID:10000797-1768435200-1768521599@waterfrontnc.ca
SUMMARY:Closed Due to Weather
DESCRIPTION:In response to Environment Canada’s continued Snowfall Warning for the City of Toronto and the expected snow throughout the day\, Waterfront Neighbourhood Centre is closed today. All programs and events are cancelled.
URL:https://waterfrontnc.ca/event/closed-due-to-weather/
CATEGORIES:Centre Operation
ATTACH;FMTTYPE=image/jpeg:https://waterfrontnc.ca/wp-content/uploads/graphics/Closed.jpg
END:VEVENT
BEGIN:VEVENT
DTSTART;TZID=America/Toronto:20260125T000000
DTEND;TZID=America/Toronto:20260125T235959
DTSTAMP:20260423T090725
CREATED:20260125T165736Z
LAST-MODIFIED:20260125T165738Z
UID:10000798-1769299200-1769385599@waterfrontnc.ca
SUMMARY:Weather Closure 3PM
DESCRIPTION:Due to the weather conditions\, WNC will be closing at 3PM today\, Sunday\, January 25\, 2026.
URL:https://waterfrontnc.ca/event/weather-closure-3pm/
ATTACH;FMTTYPE=image/jpeg:https://waterfrontnc.ca/wp-content/uploads/2025/02/weather-closure.jpg
END:VEVENT
BEGIN:VEVENT
DTSTART;TZID=America/Toronto:20260126T000000
DTEND;TZID=America/Toronto:20260126T235959
DTSTAMP:20260423T090725
CREATED:20260126T015844Z
LAST-MODIFIED:20260126T015900Z
UID:10000799-1769385600-1769471999@waterfrontnc.ca
SUMMARY:Closed due to weather
DESCRIPTION:Due to the weather\, Waterfront Neighbourhood Centre is closed today. All programs and events are cancelled.
URL:https://waterfrontnc.ca/event/closed-due-to-weather-2/
ATTACH;FMTTYPE=image/jpeg:https://waterfrontnc.ca/wp-content/uploads/2025/02/weather-closure.jpg
END:VEVENT
BEGIN:VEVENT
DTSTART;TZID=America/Toronto:20260214T000000
DTEND;TZID=America/Toronto:20260214T235959
DTSTAMP:20260423T090725
CREATED:20260206T204604Z
LAST-MODIFIED:20260206T204606Z
UID:10000802-1771027200-1771113599@waterfrontnc.ca
SUMMARY:Happy Valentine's Day
DESCRIPTION:
URL:https://waterfrontnc.ca/event/happy-valentines-day/
ATTACH;FMTTYPE=image/jpeg:https://waterfrontnc.ca/wp-content/uploads/2025/02/valentines.jpg
END:VEVENT
BEGIN:VEVENT
DTSTART;TZID=America/Toronto:20260216T000000
DTEND;TZID=America/Toronto:20260216T235959
DTSTAMP:20260423T090725
CREATED:20260206T204253Z
LAST-MODIFIED:20260206T204514Z
UID:10000800-1771200000-1771286399@waterfrontnc.ca
SUMMARY:Family Day Closure
DESCRIPTION:WNC is closed for Family Day.
URL:https://waterfrontnc.ca/event/family-day-closure-2/
ATTACH;FMTTYPE=image/jpeg:https://waterfrontnc.ca/wp-content/uploads/2025/02/family-day.jpeg
END:VEVENT
BEGIN:VEVENT
DTSTART;TZID=America/Toronto:20260223T180000
DTEND;TZID=America/Toronto:20260223T200000
DTSTAMP:20260423T090725
CREATED:20260212T035403Z
LAST-MODIFIED:20260212T035422Z
UID:10000803-1771869600-1771876800@waterfrontnc.ca
SUMMARY:Black History Month Celebration
DESCRIPTION:We warmly invite you to join us in celebrating Black history month through an engaging exploration of literacy\, \n\n\n\nMusic\, culture\, and heritage. \n\n\n\nExperience the inspiring storytelling of published author and passionate literacy advocate Suzette Daley\, alongside the soulful sounds of Lynette playing the steel pan and the captivating drumming of Keith Pascal and the K-Pass drummers. Enjoy a dynamic performance from the talented Fraces Greenridge and immerse yourself in this Interactive celebration facilitated by Stolen from Africa!For more information\, please contact :416-392-1509 Ext 302 – Cheyenne\, 303 -Sarah\, 328 – Gaby Or 341-Chase
URL:https://waterfrontnc.ca/event/black-history-month-celebration/
CATEGORIES:Community
ATTACH;FMTTYPE=image/jpeg:https://waterfrontnc.ca/wp-content/uploads/2026/02/Black-History-Celebration-Flyer-2026-scaled.jpg
END:VEVENT
BEGIN:VEVENT
DTSTART;TZID=America/Toronto:20260306T170000
DTEND;TZID=America/Toronto:20260306T200000
DTSTAMP:20260423T090725
CREATED:20260225T174848Z
LAST-MODIFIED:20260225T180321Z
UID:10000804-1772816400-1772827200@waterfrontnc.ca
SUMMARY:Iftar Gathering
DESCRIPTION:For more information\, contact suada@waterfrontnc.ca or gaby@waterfrontnc.ca
URL:https://waterfrontnc.ca/event/iftar-gathering/
LOCATION:Waterfront Neighbourhood Centre\, 627 Queens Quay W\, Toronto\, Ontario\, M5V3G3
ATTACH;FMTTYPE=image/jpeg:https://waterfrontnc.ca/wp-content/uploads/2026/02/Ramadan-2026.jpg
END:VEVENT
BEGIN:VEVENT
DTSTART;TZID=America/Toronto:20260312T100000
DTEND;TZID=America/Toronto:20260312T140000
DTSTAMP:20260423T090725
CREATED:20260317T005806Z
LAST-MODIFIED:20260317T005941Z
UID:10000806-1773309600-1773324000@waterfrontnc.ca
SUMMARY:Seniors Active Living Fair
DESCRIPTION:Join us for a welcoming and informative day designed especially for seniors and caregivers in our community 💙 \n\n\n\n✨ Discover valuable resources💪 Enjoy engaging workshops & interactive fitness demonstrations🤝 Connect with 10+ exhibitors offering services that support seniors across Toronto \n\n\n\n🗓 March 12\, 2026⏰ 10 am – 2 pm📍 Cafe Area — 627 Queens Quay West & Bathurst St.\, Toronto \n\n\n\n📞 416-392-1509📧 gaby@waterfrontnc.caℹ️ For more information\, contact Gaby Motta
URL:https://waterfrontnc.ca/event/seniors-active-living-fair-2/
ATTACH;FMTTYPE=image/jpeg:https://waterfrontnc.ca/wp-content/uploads/2026/03/649217344_18456591187107269_773145422542176019_n.jpg
END:VEVENT
BEGIN:VEVENT
DTSTART;TZID=America/Toronto:20260316T000000
DTEND;TZID=America/Toronto:20260320T235959
DTSTAMP:20260423T090725
CREATED:20260206T204436Z
LAST-MODIFIED:20260206T204437Z
UID:10000801-1773619200-1774051199@waterfrontnc.ca
SUMMARY:March Break
DESCRIPTION:
URL:https://waterfrontnc.ca/event/march-break-2/
ATTACH;FMTTYPE=image/jpeg:https://waterfrontnc.ca/wp-content/uploads/2023/01/AdobeStock_45849681-1.jpg
END:VEVENT
BEGIN:VEVENT
DTSTART;TZID=America/Toronto:20260316T000000
DTEND;TZID=America/Toronto:20260322T235959
DTSTAMP:20260423T090725
CREATED:20260310T212150Z
LAST-MODIFIED:20260311T042851Z
UID:10000805-1773619200-1774223999@waterfrontnc.ca
SUMMARY:Spring Programs Registration
DESCRIPTION:Monday\, March 16Membership Subsidy Approval/Renewal Day8:00 am 7:00 pm \n\n\n\nTuesday\, March 17Family and Children Programs Registration Day8:00 am 7:00 pm \n\n\n\nWednesday\, March 18PEEP PEEP for Tots Registration Session 1 Session 28:00 am 7:00 pm \n\n\n\nThursday\, March 19Senior Programs\, Adult Fitness Day andGeneral Registration for All Programs8:00 am 7:00 pm \n\n\n\nFriday\, March 20General Registration for All Programs8:00 am 7:00 pm \n\n\n\nSaturday\, March 21 and Sunday\, March 22General Registration for All Programs11:00 am – 5:00 pm
URL:https://waterfrontnc.ca/event/spring-programs-registration-2/
ATTACH;FMTTYPE=image/jpeg:https://waterfrontnc.ca/wp-content/uploads/graphics/Programs-Registration.jpg
END:VEVENT
BEGIN:VEVENT
DTSTART;TZID=America/Toronto:20260411T000000
DTEND;TZID=America/Toronto:20260411T235959
DTSTAMP:20260423T090725
CREATED:20260408T143146Z
LAST-MODIFIED:20260408T143201Z
UID:10000807-1775865600-1775951999@waterfrontnc.ca
SUMMARY:Centre Closed
DESCRIPTION:Due to a scheduled Toronto Hydro power outage\, WNC will be closed. \n\n\n\nAll Saturday programs will be cancelled\, and credits will be issued accordingly.
URL:https://waterfrontnc.ca/event/centre-closed/
CATEGORIES:Centre Operation
ATTACH;FMTTYPE=image/jpeg:https://waterfrontnc.ca/wp-content/uploads/graphics/Closed.jpg
END:VEVENT
BEGIN:VEVENT
DTSTART;TZID=America/Toronto:20260422T173000
DTEND;TZID=America/Toronto:20260422T193000
DTSTAMP:20260423T090725
CREATED:20260415T151152Z
LAST-MODIFIED:20260415T151223Z
UID:10000808-1776879000-1776886200@waterfrontnc.ca
SUMMARY:Celebrate WNC Volunteers
DESCRIPTION:Waterfront Neighbourhood Centre (WNC) Volunteers Spread Kindess Every Day! \n\n\n\nThank you to all our amazing and remarkable volunteers for your dedication and support! \n\n\n\nJoin us to celebrate WNC’s amazing volunteers! \n\n\n\nWednesday – April 22nd @ 5:30 PM – 7:30 PM  \n\n\n\nTo RSVP please email suada@waterfrontnc.ca
URL:https://waterfrontnc.ca/event/celebrate-wnc-volunteers/
ATTACH;FMTTYPE=image/jpeg:https://waterfrontnc.ca/wp-content/uploads/2026/04/WNC-2026-National-Volunteer-Week-Event-Invite-scaled.jpg
END:VEVENT
END:VCALENDAR