BEGIN:VCALENDAR
VERSION:2.0
PRODID:-//Waterfront Neighbourhood Centre - ECPv6.15.20//NONSGML v1.0//EN
CALSCALE:GREGORIAN
METHOD:PUBLISH
X-ORIGINAL-URL:https://waterfrontnc.ca
X-WR-CALDESC:Events for Waterfront Neighbourhood Centre
REFRESH-INTERVAL;VALUE=DURATION:PT1H
X-Robots-Tag:noindex
X-PUBLISHED-TTL:PT1H
BEGIN:VTIMEZONE
TZID:America/Toronto
BEGIN:DAYLIGHT
TZOFFSETFROM:-0500
TZOFFSETTO:-0400
TZNAME:EDT
DTSTART:20240310T070000
END:DAYLIGHT
BEGIN:STANDARD
TZOFFSETFROM:-0400
TZOFFSETTO:-0500
TZNAME:EST
DTSTART:20241103T060000
END:STANDARD
BEGIN:DAYLIGHT
TZOFFSETFROM:-0500
TZOFFSETTO:-0400
TZNAME:EDT
DTSTART:20250309T070000
END:DAYLIGHT
BEGIN:STANDARD
TZOFFSETFROM:-0400
TZOFFSETTO:-0500
TZNAME:EST
DTSTART:20251102T060000
END:STANDARD
BEGIN:DAYLIGHT
TZOFFSETFROM:-0500
TZOFFSETTO:-0400
TZNAME:EDT
DTSTART:20260308T070000
END:DAYLIGHT
BEGIN:STANDARD
TZOFFSETFROM:-0400
TZOFFSETTO:-0500
TZNAME:EST
DTSTART:20261101T060000
END:STANDARD
BEGIN:DAYLIGHT
TZOFFSETFROM:-0500
TZOFFSETTO:-0400
TZNAME:EDT
DTSTART:20270314T070000
END:DAYLIGHT
BEGIN:STANDARD
TZOFFSETFROM:-0400
TZOFFSETTO:-0500
TZNAME:EST
DTSTART:20271107T060000
END:STANDARD
END:VTIMEZONE
BEGIN:VEVENT
DTSTART;TZID=America/Toronto:20250702T140000
DTEND;TZID=America/Toronto:20250702T160000
DTSTAMP:20260420T045137
CREATED:20250613T184041Z
LAST-MODIFIED:20250613T184642Z
UID:10000730-1751464800-1751472000@waterfrontnc.ca
SUMMARY:Clothing Bank
DESCRIPTION:Clothing Bank WednesdayRoom: Assembly C \n\n\n\nDonates at waterfrontnc.ca/donate
URL:https://waterfrontnc.ca/event/clothing-bank-2/
END:VEVENT
BEGIN:VEVENT
DTSTART;TZID=America/Toronto:20250804T000000
DTEND;TZID=America/Toronto:20250804T235959
DTSTAMP:20260420T045137
CREATED:20250724T190733Z
LAST-MODIFIED:20250803T201741Z
UID:10000744-1754265600-1754351999@waterfrontnc.ca
SUMMARY:Closed for Civic Holiday
DESCRIPTION:WNC will be closed for Civic Holiday
URL:https://waterfrontnc.ca/event/closed-for-civic-holiday/
CATEGORIES:Centre Operation
ATTACH;FMTTYPE=image/jpeg:https://waterfrontnc.ca/wp-content/uploads/2025/07/civic-holiday-closure-sign.jpg
END:VEVENT
BEGIN:VEVENT
DTSTART;TZID=America/Toronto:20250824T000000
DTEND;TZID=America/Toronto:20250824T235959
DTSTAMP:20260420T045137
CREATED:20250803T202539Z
LAST-MODIFIED:20250803T202541Z
UID:10000752-1755993600-1756079999@waterfrontnc.ca
SUMMARY:Last day of Summer Session
DESCRIPTION:
URL:https://waterfrontnc.ca/event/last-day-of-summer-session/
CATEGORIES:Programs & Services
ATTACH;FMTTYPE=image/jpeg:https://waterfrontnc.ca/wp-content/uploads/graphics/Summer-Session.jpg
END:VEVENT
BEGIN:VEVENT
DTSTART;TZID=America/Toronto:20250826T000000
DTEND;TZID=America/Toronto:20250831T235959
DTSTAMP:20260420T045137
CREATED:20250803T200655Z
LAST-MODIFIED:20250803T201741Z
UID:10000746-1756166400-1756684799@waterfrontnc.ca
SUMMARY:Closed for Maintenance
DESCRIPTION:We are closed for maintenance and will re-open on September 2nd.
URL:https://waterfrontnc.ca/event/closed-for-maintenance-2/
CATEGORIES:Centre Operation
ATTACH;FMTTYPE=image/jpeg:https://waterfrontnc.ca/wp-content/uploads/graphics/Closed.jpg
END:VEVENT
BEGIN:VEVENT
DTSTART;TZID=America/Toronto:20250901T000000
DTEND;TZID=America/Toronto:20250901T235959
DTSTAMP:20260420T045137
CREATED:20250803T200048Z
LAST-MODIFIED:20250803T200050Z
UID:10000745-1756684800-1756771199@waterfrontnc.ca
SUMMARY:Closed for Labour Day
DESCRIPTION:
URL:https://waterfrontnc.ca/event/closed-for-labour-day/
CATEGORIES:Centre Operation
ATTACH;FMTTYPE=image/jpeg:https://waterfrontnc.ca/wp-content/uploads/graphics/Closed.jpg
END:VEVENT
BEGIN:VEVENT
DTSTART;TZID=America/Toronto:20250903T080000
DTEND;TZID=America/Toronto:20250903T170000
DTSTAMP:20260420T045137
CREATED:20250803T201927Z
LAST-MODIFIED:20250803T202207Z
UID:10000749-1756886400-1756918800@waterfrontnc.ca
SUMMARY:Membership & Subsidy Approval/Renewal
DESCRIPTION:Fall Registration begins \n\n\n\nMembership & Subsidy Approval/Renewal \n\n\n\nPlease visit waterfrontnc.ca/programguide for more information
URL:https://waterfrontnc.ca/event/membership-subsidy-approval-renewal-2/
CATEGORIES:Programs & Services
ATTACH;FMTTYPE=image/jpeg:https://waterfrontnc.ca/wp-content/uploads/graphics/Programs-Registration.jpg
END:VEVENT
BEGIN:VEVENT
DTSTART;TZID=America/Toronto:20250903T080000
DTEND;TZID=America/Toronto:20250907T170000
DTSTAMP:20260420T045137
CREATED:20250803T202122Z
LAST-MODIFIED:20250803T202124Z
UID:10000750-1756886400-1757264400@waterfrontnc.ca
SUMMARY:Fall Programs Registration
DESCRIPTION:Wednesday\, September 3 – 8:00amFamily & Childrens Programs RegistrationThursday\, September 4 – 8:00amPEEP & PEEP For Tots Registration For S1/S2Friday\, September 5 – 8:00amSeniors & Adult Fitness Programs RegistrationSaturday & Sunday\, June 6 & 7 – 8:00amGeneral Registration For All Programs \n\n\n\nVisit waterfrontnc.ca/programguide for more information.
URL:https://waterfrontnc.ca/event/fall-programs-registration-2/
CATEGORIES:Programs & Services
ATTACH;FMTTYPE=image/jpeg:https://waterfrontnc.ca/wp-content/uploads/graphics/Programs-Registration.jpg
END:VEVENT
BEGIN:VEVENT
DTSTART;TZID=America/Toronto:20250908T000000
DTEND;TZID=America/Toronto:20250908T235959
DTSTAMP:20260420T045137
CREATED:20250803T202753Z
LAST-MODIFIED:20250803T202755Z
UID:10000753-1757289600-1757375999@waterfrontnc.ca
SUMMARY:Fall Session Begins
DESCRIPTION:
URL:https://waterfrontnc.ca/event/fall-session-begins/
CATEGORIES:Programs & Services
ATTACH;FMTTYPE=image/jpeg:https://waterfrontnc.ca/wp-content/uploads/graphics/Fall-Session.jpg
END:VEVENT
BEGIN:VEVENT
DTSTART;TZID=America/Toronto:20251007T130000
DTEND;TZID=America/Toronto:20251007T150000
DTSTAMP:20260420T045137
CREATED:20251003T232540Z
LAST-MODIFIED:20251003T232740Z
UID:10000778-1759842000-1759849200@waterfrontnc.ca
SUMMARY:Clothing Bank
DESCRIPTION:Bi-weekly clothing bank 1PM to 3PM at Assembly C
URL:https://waterfrontnc.ca/event/clothing-bank-5/2025-10-07/
CATEGORIES:Community
ATTACH;FMTTYPE=image/jpeg:https://waterfrontnc.ca/wp-content/uploads/2025/09/clothing-bank-1-e1757032153954.jpg
END:VEVENT
BEGIN:VEVENT
DTSTART;TZID=America/Toronto:20251013T000000
DTEND;TZID=America/Toronto:20251013T235959
DTSTAMP:20260420T045137
CREATED:20250803T201019Z
LAST-MODIFIED:20250803T201741Z
UID:10000747-1760313600-1760399999@waterfrontnc.ca
SUMMARY:Closed for Thanksgiving
DESCRIPTION:We are closed for Thanksgiving Monday.
URL:https://waterfrontnc.ca/event/closed-for-thanksgiving-3/
CATEGORIES:Centre Operation
ATTACH;FMTTYPE=image/jpeg:https://waterfrontnc.ca/wp-content/uploads/graphics/Closed.jpg
END:VEVENT
BEGIN:VEVENT
DTSTART;TZID=America/Toronto:20251021T130000
DTEND;TZID=America/Toronto:20251021T150000
DTSTAMP:20260420T045137
CREATED:20251003T232540Z
LAST-MODIFIED:20251003T232740Z
UID:10000779-1761051600-1761058800@waterfrontnc.ca
SUMMARY:Clothing Bank
DESCRIPTION:Bi-weekly clothing bank 1PM to 3PM at Assembly C
URL:https://waterfrontnc.ca/event/clothing-bank-5/2025-10-21/
CATEGORIES:Community
ATTACH;FMTTYPE=image/jpeg:https://waterfrontnc.ca/wp-content/uploads/2025/09/clothing-bank-1-e1757032153954.jpg
END:VEVENT
BEGIN:VEVENT
DTSTART;TZID=America/Toronto:20251024T180000
DTEND;TZID=America/Toronto:20251024T200000
DTSTAMP:20260420T045137
CREATED:20250922T012631Z
LAST-MODIFIED:20251021T024236Z
UID:10000764-1761328800-1761336000@waterfrontnc.ca
SUMMARY:Seniors Got Talent
DESCRIPTION:
URL:https://waterfrontnc.ca/event/seniors-got-talent/
LOCATION:Waterfront Neighbourhood Centre\, 627 Queens Quay W\, Toronto\, Ontario\, M5V3G3
END:VEVENT
BEGIN:VEVENT
DTSTART;TZID=America/Toronto:20251104T130000
DTEND;TZID=America/Toronto:20251104T150000
DTSTAMP:20260420T045137
CREATED:20251003T232540Z
LAST-MODIFIED:20251003T232740Z
UID:10000780-1762261200-1762268400@waterfrontnc.ca
SUMMARY:Clothing Bank
DESCRIPTION:Bi-weekly clothing bank 1PM to 3PM at Assembly C
URL:https://waterfrontnc.ca/event/clothing-bank-5/2025-11-04/
CATEGORIES:Community
ATTACH;FMTTYPE=image/jpeg:https://waterfrontnc.ca/wp-content/uploads/2025/09/clothing-bank-1-e1757032153954.jpg
END:VEVENT
BEGIN:VEVENT
DTSTART;TZID=America/Toronto:20251111T000000
DTEND;TZID=America/Toronto:20251111T235959
DTSTAMP:20260420T045137
CREATED:20250803T201707Z
LAST-MODIFIED:20251105T185949Z
UID:10000748-1762819200-1762905599@waterfrontnc.ca
SUMMARY:Closed for Remembrance Day
DESCRIPTION:We are closed for Remembrance Day.
URL:https://waterfrontnc.ca/event/closed-for-remembrance-day/
CATEGORIES:Centre Operation
ATTACH;FMTTYPE=image/jpeg:https://waterfrontnc.ca/wp-content/uploads/2025/08/poppy.jpg
END:VEVENT
BEGIN:VEVENT
DTSTART;TZID=America/Toronto:20251118T130000
DTEND;TZID=America/Toronto:20251118T150000
DTSTAMP:20260420T045137
CREATED:20251003T232540Z
LAST-MODIFIED:20251003T232740Z
UID:10000781-1763470800-1763478000@waterfrontnc.ca
SUMMARY:Clothing Bank
DESCRIPTION:Bi-weekly clothing bank 1PM to 3PM at Assembly C
URL:https://waterfrontnc.ca/event/clothing-bank-5/2025-11-18/
CATEGORIES:Community
ATTACH;FMTTYPE=image/jpeg:https://waterfrontnc.ca/wp-content/uploads/2025/09/clothing-bank-1-e1757032153954.jpg
END:VEVENT
BEGIN:VEVENT
DTSTART;TZID=America/Toronto:20251202T000000
DTEND;TZID=America/Toronto:20251202T235959
DTSTAMP:20260420T045137
CREATED:20251125T153246Z
LAST-MODIFIED:20251125T153443Z
UID:10000784-1764633600-1764719999@waterfrontnc.ca
SUMMARY:Giving Tuesday
DESCRIPTION:Donate Now
URL:https://waterfrontnc.ca/event/giving-tuesday/
ATTACH;FMTTYPE=image/png:https://waterfrontnc.ca/wp-content/uploads/2025/11/give-on-giving-tuesday.png
END:VEVENT
BEGIN:VEVENT
DTSTART;TZID=America/Toronto:20251202T130000
DTEND;TZID=America/Toronto:20251202T150000
DTSTAMP:20260420T045137
CREATED:20251003T232540Z
LAST-MODIFIED:20251003T232740Z
UID:10000782-1764680400-1764687600@waterfrontnc.ca
SUMMARY:Clothing Bank
DESCRIPTION:Bi-weekly clothing bank 1PM to 3PM at Assembly C
URL:https://waterfrontnc.ca/event/clothing-bank-5/2025-12-02/
CATEGORIES:Community
ATTACH;FMTTYPE=image/jpeg:https://waterfrontnc.ca/wp-content/uploads/2025/09/clothing-bank-1-e1757032153954.jpg
END:VEVENT
BEGIN:VEVENT
DTSTART;TZID=America/Toronto:20251214T000000
DTEND;TZID=America/Toronto:20251214T235959
DTSTAMP:20260420T045137
CREATED:20250803T202903Z
LAST-MODIFIED:20250803T202905Z
UID:10000754-1765670400-1765756799@waterfrontnc.ca
SUMMARY:Last day for Fall Session
DESCRIPTION:
URL:https://waterfrontnc.ca/event/last-day-for-fall-session/
ATTACH;FMTTYPE=image/jpeg:https://waterfrontnc.ca/wp-content/uploads/graphics/Fall-Session.jpg
END:VEVENT
BEGIN:VEVENT
DTSTART;TZID=America/Toronto:20251215T100000
DTEND;TZID=America/Toronto:20251215T180000
DTSTAMP:20260420T045137
CREATED:20251206T165156Z
LAST-MODIFIED:20251206T165158Z
UID:10000785-1765792800-1765821600@waterfrontnc.ca
SUMMARY:Holiday Hours
DESCRIPTION:
URL:https://waterfrontnc.ca/event/holiday-hours/
ATTACH;FMTTYPE=image/jpeg:https://waterfrontnc.ca/wp-content/uploads/graphics/Open.jpg
END:VEVENT
BEGIN:VEVENT
DTSTART;TZID=America/Toronto:20251216T100000
DTEND;TZID=America/Toronto:20251216T180000
DTSTAMP:20260420T045137
CREATED:20251206T165232Z
LAST-MODIFIED:20251206T165234Z
UID:10000786-1765879200-1765908000@waterfrontnc.ca
SUMMARY:Holiday Hours
DESCRIPTION:
URL:https://waterfrontnc.ca/event/holiday-hours-2/
ATTACH;FMTTYPE=image/jpeg:https://waterfrontnc.ca/wp-content/uploads/graphics/Open.jpg
END:VEVENT
BEGIN:VEVENT
DTSTART;TZID=America/Toronto:20251216T130000
DTEND;TZID=America/Toronto:20251216T150000
DTSTAMP:20260420T045137
CREATED:20251003T232540Z
LAST-MODIFIED:20251003T232740Z
UID:10000783-1765890000-1765897200@waterfrontnc.ca
SUMMARY:Clothing Bank
DESCRIPTION:Bi-weekly clothing bank 1PM to 3PM at Assembly C
URL:https://waterfrontnc.ca/event/clothing-bank-5/2025-12-16/
CATEGORIES:Community
ATTACH;FMTTYPE=image/jpeg:https://waterfrontnc.ca/wp-content/uploads/2025/09/clothing-bank-1-e1757032153954.jpg
END:VEVENT
BEGIN:VEVENT
DTSTART;TZID=America/Toronto:20251217T100000
DTEND;TZID=America/Toronto:20251217T200000
DTSTAMP:20260420T045137
CREATED:20251206T165312Z
LAST-MODIFIED:20251206T165436Z
UID:10000787-1765965600-1766001600@waterfrontnc.ca
SUMMARY:Holiday Hours
DESCRIPTION:
URL:https://waterfrontnc.ca/event/holiday-hours-3/
ATTACH;FMTTYPE=image/jpeg:https://waterfrontnc.ca/wp-content/uploads/graphics/Open.jpg
END:VEVENT
BEGIN:VEVENT
DTSTART;TZID=America/Toronto:20251218T100000
DTEND;TZID=America/Toronto:20251218T180000
DTSTAMP:20260420T045137
CREATED:20251206T165337Z
LAST-MODIFIED:20251206T165340Z
UID:10000788-1766052000-1766080800@waterfrontnc.ca
SUMMARY:Holiday Hours
DESCRIPTION:
URL:https://waterfrontnc.ca/event/holiday-hours-4/
ATTACH;FMTTYPE=image/jpeg:https://waterfrontnc.ca/wp-content/uploads/graphics/Open.jpg
END:VEVENT
BEGIN:VEVENT
DTSTART;TZID=America/Toronto:20251219T100000
DTEND;TZID=America/Toronto:20251219T180000
DTSTAMP:20260420T045137
CREATED:20251206T165354Z
LAST-MODIFIED:20251206T165356Z
UID:10000789-1766138400-1766167200@waterfrontnc.ca
SUMMARY:Holiday Hours
DESCRIPTION:
URL:https://waterfrontnc.ca/event/holiday-hours-5/
ATTACH;FMTTYPE=image/jpeg:https://waterfrontnc.ca/wp-content/uploads/graphics/Open.jpg
END:VEVENT
BEGIN:VEVENT
DTSTART;TZID=America/Toronto:20251220T000000
DTEND;TZID=America/Toronto:20260104T235959
DTSTAMP:20260420T045137
CREATED:20250803T202403Z
LAST-MODIFIED:20250803T202406Z
UID:10000751-1766188800-1767571199@waterfrontnc.ca
SUMMARY:Closed for Winter Break
DESCRIPTION:We are close for Winter Break. \n\n\n\nWishing you Happy Holidays and a a Happy New Year!
URL:https://waterfrontnc.ca/event/closed-for-winter-break/
CATEGORIES:Centre Operation
ATTACH;FMTTYPE=image/jpeg:https://waterfrontnc.ca/wp-content/uploads/graphics/Closed.jpg
END:VEVENT
BEGIN:VEVENT
DTSTART;TZID=America/Toronto:20260105T080000
DTEND;TZID=America/Toronto:20260105T190000
DTSTAMP:20260420T045137
CREATED:20260105T015455Z
LAST-MODIFIED:20260105T015517Z
UID:10000790-1767600000-1767639600@waterfrontnc.ca
SUMMARY:Winter Programs Registration
DESCRIPTION:
URL:https://waterfrontnc.ca/event/winter-programs-registration-3/2026-01-05/
END:VEVENT
BEGIN:VEVENT
DTSTART;TZID=America/Toronto:20260106T080000
DTEND;TZID=America/Toronto:20260106T190000
DTSTAMP:20260420T045137
CREATED:20260105T015455Z
LAST-MODIFIED:20260105T015517Z
UID:10000791-1767686400-1767726000@waterfrontnc.ca
SUMMARY:Winter Programs Registration
DESCRIPTION:
URL:https://waterfrontnc.ca/event/winter-programs-registration-3/2026-01-06/
END:VEVENT
BEGIN:VEVENT
DTSTART;TZID=America/Toronto:20260107T080000
DTEND;TZID=America/Toronto:20260107T190000
DTSTAMP:20260420T045137
CREATED:20260105T015455Z
LAST-MODIFIED:20260105T015517Z
UID:10000792-1767772800-1767812400@waterfrontnc.ca
SUMMARY:Winter Programs Registration
DESCRIPTION:
URL:https://waterfrontnc.ca/event/winter-programs-registration-3/2026-01-07/
END:VEVENT
BEGIN:VEVENT
DTSTART;TZID=America/Toronto:20260108T080000
DTEND;TZID=America/Toronto:20260108T190000
DTSTAMP:20260420T045137
CREATED:20260105T015455Z
LAST-MODIFIED:20260105T015517Z
UID:10000793-1767859200-1767898800@waterfrontnc.ca
SUMMARY:Winter Programs Registration
DESCRIPTION:
URL:https://waterfrontnc.ca/event/winter-programs-registration-3/2026-01-08/
END:VEVENT
BEGIN:VEVENT
DTSTART;TZID=America/Toronto:20260109T080000
DTEND;TZID=America/Toronto:20260109T190000
DTSTAMP:20260420T045137
CREATED:20260105T015455Z
LAST-MODIFIED:20260105T015517Z
UID:10000794-1767945600-1767985200@waterfrontnc.ca
SUMMARY:Winter Programs Registration
DESCRIPTION:
URL:https://waterfrontnc.ca/event/winter-programs-registration-3/2026-01-09/
END:VEVENT
END:VCALENDAR